View In:
ArcGIS JavaScript
ArcGIS Online Map Viewer
ArcGIS Earth
ArcMap
View Footprint In:
ArcGIS Online Map Viewer
Service Description: Washington University oblique imagery.
Name: Oblique/WU_Oblique
Description: Washington University oblique imagery.
Single Fused Map Cache: false
Extent:
XMin: -1.00592318051E7
YMin: 4667078.958830631
XMax: -1.0046367888975495E7
YMax: 4673807.836700001
Spatial Reference: 102100
(3857)
Initial Extent:
XMin: -1.00592318051E7
YMin: 4667078.958830631
XMax: -1.0046367888975495E7
YMax: 4673807.836700001
Spatial Reference: 102100
(3857)
Full Extent:
XMin: -1.00592318051E7
YMin: 4667078.958830631
XMax: -1.0046367888975495E7
YMax: 4673807.836700001
Spatial Reference: 102100
(3857)
Pixel Size X: 0.06522126460569402
Pixel Size Y: 0.06522126460569412
Band Count: 3
Pixel Type: U8
RasterFunction Infos: {"rasterFunctionInfos": [
{
"name": "Stretch_SD_DRA",
"description": "A raster function template.",
"help": ""
},
{
"name": "None",
"description": "A No-Op Function.",
"help": ""
}
]}
Mensuration Capabilities: Basic,Base-Top Height,Base-Top Shadow Height,Top-Top Shadow Height,3D
Has Histograms: false
Has Colormap: false
Has Multi Dimensions : false
Rendering Rule:
Min Scale: 0
Max Scale: 0
Copyright Text: 2016 Surdex Corporation
Service Data Type: esriImageServiceDataTypeRGB
Min Values: N/A
Max Values: N/A
Mean Values: N/A
Standard Deviation Values: N/A
Object ID Field: OBJECTID
Fields:
-
OBJECTID
(
type: esriFieldTypeOID, alias: OBJECTID
)
-
Shape
(
type: esriFieldTypeGeometry, alias: Shape
)
-
Name
(
type: esriFieldTypeString, alias: Name, length: 200
)
-
MinPS
(
type: esriFieldTypeDouble, alias: MinPS
)
-
MaxPS
(
type: esriFieldTypeDouble, alias: MaxPS
)
-
LowPS
(
type: esriFieldTypeDouble, alias: LowPS
)
-
HighPS
(
type: esriFieldTypeDouble, alias: HighPS
)
-
Category
(
type: esriFieldTypeInteger, alias: Category
,
Coded Values:
[0: Unknown]
,
[1: Primary]
,
[2: Overview]
, ...5 more...
)
-
Tag
(
type: esriFieldTypeString, alias: Tag, length: 100
)
-
GroupName
(
type: esriFieldTypeString, alias: GroupName, length: 100
)
-
ProductName
(
type: esriFieldTypeString, alias: ProductName, length: 100
)
-
CenterX
(
type: esriFieldTypeDouble, alias: CenterX
)
-
CenterY
(
type: esriFieldTypeDouble, alias: CenterY
)
-
ZOrder
(
type: esriFieldTypeInteger, alias: ZOrder
)
-
SensorAzimuth
(
type: esriFieldTypeDouble, alias: Sensor Azimuth
)
-
SensorElevation
(
type: esriFieldTypeDouble, alias: Sensor Elevation
)
-
EventID
(
type: esriFieldTypeInteger, alias: EventID
)
-
GPSTime
(
type: esriFieldTypeDouble, alias: GPSTime
)
-
PerspectiveX
(
type: esriFieldTypeDouble, alias: PerspectiveX
)
-
PerspectiveY
(
type: esriFieldTypeDouble, alias: PerspectiveY
)
-
PerspectiveZ
(
type: esriFieldTypeDouble, alias: PerspectiveZ
)
-
Lat
(
type: esriFieldTypeDouble, alias: Lat
)
-
Long_
(
type: esriFieldTypeDouble, alias: Long
)
-
Xstd
(
type: esriFieldTypeDouble, alias: Xstd
)
-
Ystd
(
type: esriFieldTypeDouble, alias: Ystd
)
-
Zstd
(
type: esriFieldTypeDouble, alias: Zstd
)
-
Ostd
(
type: esriFieldTypeDouble, alias: Ostd
)
-
Pstd
(
type: esriFieldTypeDouble, alias: Pstd
)
-
Kstd
(
type: esriFieldTypeDouble, alias: Kstd
)
-
CameraID
(
type: esriFieldTypeString, alias: CameraID, length: 10
)
-
Dataset_ID
(
type: esriFieldTypeString, alias: Dataset_ID, length: 50
)
-
Shape_Length
(
type: esriFieldTypeDouble, alias: Shape_Length
)
-
Shape_Area
(
type: esriFieldTypeDouble, alias: Shape_Area
)
Default Mosaic Method: Center
Allowed Mosaic Methods: Center,ByAttribute,Seamline,NorthWest,LockRaster,Nadir,Viewpoint,None
SortField:
SortValue: null
Mosaic Operator: First
Default Compression Quality: 85
Default Resampling Method: Bilinear
Max Record Count: 1000
Max Image Height: 4000
Max Image Width: 4000
Max Download Image Count: 20
Max Mosaic Image Count: 20
Allow Raster Function: true
Allow Copy: true
Allow Analysis: true
Allow Compute TiePoints: false
Supports Statistics: true
Supports Advanced Queries: true
Use StandardizedQueries: true
Raster Type Infos:
Name: Raster Dataset
Description: Supports all ArcGIS Raster Datasets
Help:
Has Raster Attribute Table: false
Edit Fields Info: null
Ownership Based AccessControl For Rasters: null
Child Resources:
Info
Statistics
Key Properties
Legend
Raster Function Infos
Supported Operations:
Export Image
Query
Identify
Measure
Compute Histograms
Compute Statistics Histograms
Get Samples
Compute Class Statistics
Query Boundary
Compute Pixel Location
Compute Angles
Validate
Project