{
 "currentVersion": 10.91,
 "serviceDescription": "Washington University oblique imagery.",
 "name": "Oblique/WU_Oblique",
 "description": "Washington University oblique imagery.",
 "extent": {
  "xmin": -1.00592318051E7,
  "ymin": 4667078.958830631,
  "xmax": -1.0046367888975495E7,
  "ymax": 4673807.836700001,
  "spatialReference": {
   "wkid": 102100,
   "latestWkid": 3857
  }
 },
 "initialExtent": {
  "xmin": -1.00592318051E7,
  "ymin": 4667078.958830631,
  "xmax": -1.0046367888975495E7,
  "ymax": 4673807.836700001,
  "spatialReference": {
   "wkid": 102100,
   "latestWkid": 3857
  }
 },
 "fullExtent": {
  "xmin": -1.00592318051E7,
  "ymin": 4667078.958830631,
  "xmax": -1.0046367888975495E7,
  "ymax": 4673807.836700001,
  "spatialReference": {
   "wkid": 102100,
   "latestWkid": 3857
  }
 },
 "hasMultidimensions": false,
 "pixelSizeX": 0.06522126460569402,
 "pixelSizeY": 0.06522126460569412,
 "datasetFormat": "AMD",
 "uncompressedSize": 61045895340,
 "blockWidth": 2048,
 "blockHeight": 256,
 "compressionType": "None",
 "bandNames": [
  "Band_1",
  "Band_2",
  "Band_3"
 ],
 "allowCopy": true,
 "allowAnalysis": true,
 "bandCount": 3,
 "pixelType": "U8",
 "minPixelSize": 0,
 "maxPixelSize": 0,
 "copyrightText": "2016 Surdex Corporation",
 "serviceDataType": "esriImageServiceDataTypeRGB",
 "serviceSourceType": "esriImageServiceSourceTypeMosaicDataset",
 "minValues": [],
 "maxValues": [],
 "meanValues": [],
 "stdvValues": [],
 "objectIdField": "OBJECTID",
 "fields": [
  {
   "name": "OBJECTID",
   "type": "esriFieldTypeOID",
   "alias": "OBJECTID",
   "domain": null
  },
  {
   "name": "Shape",
   "type": "esriFieldTypeGeometry",
   "alias": "Shape",
   "domain": null
  },
  {
   "name": "Name",
   "type": "esriFieldTypeString",
   "alias": "Name",
   "domain": null,
   "length": 200
  },
  {
   "name": "MinPS",
   "type": "esriFieldTypeDouble",
   "alias": "MinPS",
   "domain": null
  },
  {
   "name": "MaxPS",
   "type": "esriFieldTypeDouble",
   "alias": "MaxPS",
   "domain": null
  },
  {
   "name": "LowPS",
   "type": "esriFieldTypeDouble",
   "alias": "LowPS",
   "domain": null
  },
  {
   "name": "HighPS",
   "type": "esriFieldTypeDouble",
   "alias": "HighPS",
   "domain": null
  },
  {
   "name": "Category",
   "type": "esriFieldTypeInteger",
   "alias": "Category",
   "domain": {
    "type": "codedValue",
    "name": "MosaicCatalogItemCategoryDomain",
    "description": "Catalog item categories.",
    "codedValues": [
     {
      "name": "Unknown",
      "code": 0
     },
     {
      "name": "Primary",
      "code": 1
     },
     {
      "name": "Overview",
      "code": 2
     },
     {
      "name": "Unprocessed Overview",
      "code": 3
     },
     {
      "name": "Partial Overview",
      "code": 4
     },
     {
      "name": "Uploaded",
      "code": 253
     },
     {
      "name": "Incomplete",
      "code": 254
     },
     {
      "name": "Custom",
      "code": 255
     }
    ],
    "mergePolicy": "esriMPTDefaultValue",
    "splitPolicy": "esriSPTDefaultValue"
   }
  },
  {
   "name": "Tag",
   "type": "esriFieldTypeString",
   "alias": "Tag",
   "domain": null,
   "length": 100
  },
  {
   "name": "GroupName",
   "type": "esriFieldTypeString",
   "alias": "GroupName",
   "domain": null,
   "length": 100
  },
  {
   "name": "ProductName",
   "type": "esriFieldTypeString",
   "alias": "ProductName",
   "domain": null,
   "length": 100
  },
  {
   "name": "CenterX",
   "type": "esriFieldTypeDouble",
   "alias": "CenterX",
   "domain": null
  },
  {
   "name": "CenterY",
   "type": "esriFieldTypeDouble",
   "alias": "CenterY",
   "domain": null
  },
  {
   "name": "ZOrder",
   "type": "esriFieldTypeInteger",
   "alias": "ZOrder",
   "domain": null
  },
  {
   "name": "SensorAzimuth",
   "type": "esriFieldTypeDouble",
   "alias": "Sensor Azimuth",
   "domain": null
  },
  {
   "name": "SensorElevation",
   "type": "esriFieldTypeDouble",
   "alias": "Sensor Elevation",
   "domain": null
  },
  {
   "name": "EventID",
   "type": "esriFieldTypeInteger",
   "alias": "EventID",
   "domain": null
  },
  {
   "name": "GPSTime",
   "type": "esriFieldTypeDouble",
   "alias": "GPSTime",
   "domain": null
  },
  {
   "name": "PerspectiveX",
   "type": "esriFieldTypeDouble",
   "alias": "PerspectiveX",
   "domain": null
  },
  {
   "name": "PerspectiveY",
   "type": "esriFieldTypeDouble",
   "alias": "PerspectiveY",
   "domain": null
  },
  {
   "name": "PerspectiveZ",
   "type": "esriFieldTypeDouble",
   "alias": "PerspectiveZ",
   "domain": null
  },
  {
   "name": "Lat",
   "type": "esriFieldTypeDouble",
   "alias": "Lat",
   "domain": null
  },
  {
   "name": "Long_",
   "type": "esriFieldTypeDouble",
   "alias": "Long",
   "domain": null
  },
  {
   "name": "Xstd",
   "type": "esriFieldTypeDouble",
   "alias": "Xstd",
   "domain": null
  },
  {
   "name": "Ystd",
   "type": "esriFieldTypeDouble",
   "alias": "Ystd",
   "domain": null
  },
  {
   "name": "Zstd",
   "type": "esriFieldTypeDouble",
   "alias": "Zstd",
   "domain": null
  },
  {
   "name": "Ostd",
   "type": "esriFieldTypeDouble",
   "alias": "Ostd",
   "domain": null
  },
  {
   "name": "Pstd",
   "type": "esriFieldTypeDouble",
   "alias": "Pstd",
   "domain": null
  },
  {
   "name": "Kstd",
   "type": "esriFieldTypeDouble",
   "alias": "Kstd",
   "domain": null
  },
  {
   "name": "CameraID",
   "type": "esriFieldTypeString",
   "alias": "CameraID",
   "domain": null,
   "length": 10
  },
  {
   "name": "Dataset_ID",
   "type": "esriFieldTypeString",
   "alias": "Dataset_ID",
   "domain": null,
   "length": 50
  },
  {
   "name": "Shape_Length",
   "type": "esriFieldTypeDouble",
   "alias": "Shape_Length",
   "domain": null
  },
  {
   "name": "Shape_Area",
   "type": "esriFieldTypeDouble",
   "alias": "Shape_Area",
   "domain": null
  }
 ],
 "capabilities": "Image,Metadata,Catalog,Mensuration",
 "defaultMosaicMethod": "Center",
 "allowedMosaicMethods": "Center,ByAttribute,Seamline,NorthWest,LockRaster,Nadir,Viewpoint,None",
 "sortField": "",
 "sortValue": null,
 "sortAscending": true,
 "mosaicOperator": "First",
 "maxDownloadSizeLimit": 2048,
 "defaultCompressionQuality": 85,
 "defaultResamplingMethod": "Bilinear",
 "maxImageHeight": 4000,
 "maxImageWidth": 4000,
 "maxRecordCount": 1000,
 "maxDownloadImageCount": 20,
 "maxMosaicImageCount": 20,
 "allowRasterFunction": true,
 "rasterFunctionInfos": [
  {
   "name": "Stretch_SD_DRA",
   "description": "A raster function template.",
   "help": ""
  },
  {
   "name": "None",
   "description": "A No-Op Function.",
   "help": ""
  }
 ],
 "rasterTypeInfos": [
  {
   "name": "Raster Dataset",
   "description": "Supports all ArcGIS Raster Datasets",
   "help": ""
  }
 ],
 "mensurationCapabilities": "Basic,Base-Top Height,Base-Top Shadow Height,Top-Top Shadow Height,3D",
 "hasHistograms": false,
 "hasColormap": false,
 "hasRasterAttributeTable": false,
 "minScale": 0,
 "maxScale": 0,
 "exportTilesAllowed": false,
 "supportsStatistics": true,
 "supportsAdvancedQueries": true,
 "editFieldsInfo": null,
 "ownershipBasedAccessControlForRasters": null,
 "allowComputeTiePoints": false,
 "useStandardizedQueries": true,
 "advancedQueryCapabilities": {
  "useStandardizedQueries": true,
  "supportsStatistics": true,
  "supportsOrderBy": true,
  "supportsDistinct": true,
  "supportsPagination": true
 },
 "spatialReference": {
  "wkid": 102100,
  "latestWkid": 3857
 }
}