View In:
ArcGIS JavaScript
ArcGIS Online Map Viewer
ArcGIS Earth
ArcMap
View Footprint In:
ArcGIS Online Map Viewer
Service Description: This image service contains ocean temperature data from HYbrid Coordinate Ocean Model (HYCOM). For more information about HYCOM model or downloadable data, visit http://hycom.org. The service data is managed using a multidimensional mosaic dataset. Esri reserves the right to change or remove this service at any time and without notice.
Name: ScientificData/SeaTemperature
Description: This image service contains ocean temperature data from HYbrid Coordinate Ocean Model (HYCOM). For more information about HYCOM model or downloadable data, visit http://hycom.org. The service data is managed using a multidimensional mosaic dataset. Esri reserves the right to change or remove this service at any time and without notice.
Single Fused Map Cache: false
Extent:
XMin: -179.99999999999997
YMin: -80.03999717699992
XMax: 180
YMax: 80.0400028230001
Spatial Reference: 4326
(4326)
Initial Extent:
XMin: -179.99999999999997
YMin: -80.03999717699992
XMax: 180
YMax: 80.0400028230001
Spatial Reference: 4326
(4326)
Full Extent:
XMin: -179.99999999999997
YMin: -80.03999717699992
XMax: 180
YMax: 80.0400028230001
Spatial Reference: 4326
(4326)
Time Info:
Start Time Field: StdTime
End Time Field: StdTime
Time Extent:
[2014/04/07 00:00:00 UTC, 2014/06/29 00:00:00 UTC]
Time Reference:
N/A
Pixel Size X: 0.08
Pixel Size Y: 0.08
Band Count: 1
Pixel Type: F32
RasterFunction Infos: {"rasterFunctionInfos": [
{
"name": "None",
"description": "A No-Op Function.",
"help": ""
},
{
"name": "Stretched",
"description": "A raster function template.",
"help": ""
},
{
"name": "None",
"description": "A No-Op Function.",
"help": ""
}
]}
Mensuration Capabilities: Basic
Has Histograms: true
Has Colormap: false
Has Multi Dimensions : true
Rendering Rule:
Min Scale: 0
Max Scale: 0
Copyright Text: NOAA, NOPP, GODAE, Esri
Service Data Type: esriImageServiceDataTypeScientific
Min Values: -2.5460000038146973
Max Values: 37.625999450683594
Mean Values: 4.025081928760206
Standard Deviation Values: 4.581357329974684
Object ID Field: OBJECTID
Fields:
-
OBJECTID
(
type: esriFieldTypeOID, alias: OBJECTID
)
-
Shape
(
type: esriFieldTypeGeometry, alias: Shape
)
-
Name
(
type: esriFieldTypeString, alias: Name, length: 200
)
-
MinPS
(
type: esriFieldTypeDouble, alias: MinPS
)
-
MaxPS
(
type: esriFieldTypeDouble, alias: MaxPS
)
-
LowPS
(
type: esriFieldTypeDouble, alias: LowPS
)
-
HighPS
(
type: esriFieldTypeDouble, alias: HighPS
)
-
Category
(
type: esriFieldTypeInteger, alias: Category
, Coded Values:
[0: Unknown]
, [1: Primary]
, [2: Overview]
, ...5 more...
)
-
Tag
(
type: esriFieldTypeString, alias: Tag, length: 100
)
-
GroupName
(
type: esriFieldTypeString, alias: GroupName, length: 100
)
-
ProductName
(
type: esriFieldTypeString, alias: ProductName, length: 100
)
-
CenterX
(
type: esriFieldTypeDouble, alias: CenterX
)
-
CenterY
(
type: esriFieldTypeDouble, alias: CenterY
)
-
ZOrder
(
type: esriFieldTypeInteger, alias: ZOrder
)
-
Shape_Length
(
type: esriFieldTypeDouble, alias: Shape_Length
)
-
Shape_Area
(
type: esriFieldTypeDouble, alias: Shape_Area
)
-
Variable
(
type: esriFieldTypeString, alias: Variable, length: 50
)
-
Dimensions
(
type: esriFieldTypeString, alias: Dimensions, length: 50
)
-
StdTime
(
type: esriFieldTypeDate, alias: Standard Time, length: 8
)
-
StdZ
(
type: esriFieldTypeDouble, alias: Depth
)
Default Mosaic Method: ByAttribute
Allowed Mosaic Methods: ByAttribute,NorthWest,Center,LockRaster,Nadir,Viewpoint,Seamline,None
SortField: StdTime
SortValue: 0
Mosaic Operator: First
Default Compression Quality: 10000
Default Resampling Method: Bilinear
Max Record Count: 1000
Max Image Height: 4100
Max Image Width: 15000
Max Download Image Count: 20
Max Mosaic Image Count: 1
Allow Raster Function: true
Allow Compute TiePoints: false
Supports Statistics: true
Supports Advanced Queries: true
Use StandardizedQueries: true
Raster Type Infos:
Name: Raster Dataset
Description: Supports all ArcGIS Raster Datasets
Help:
Has Raster Attribute Table: false
Edit Fields Info: null
Ownership Based AccessControl For Rasters: null
Child Resources:
Info
Histograms
Key Properties
Legend
MultiDimensionalInfo
rasterFunctionInfos
Supported Operations:
Export Image
Query
Identify
Measure
Compute Histograms
Compute Statistics Histograms
Get Samples
Compute Class Statistics
Query Boundary
Compute Pixel Location