View In:
ArcGIS JavaScript
ArcGIS Online Map Viewer
ArcGIS Earth
ArcMap
View Footprint In:
ArcGIS Online Map Viewer
Service Description: This image service contains 9 LAS files covering North Carolina’s, City of Charlotte downtown area. The lidar data was collected in 2007. First return points are used to generate an on-the-fly seamless elevation surface with a 10-foot pixel resolution. The elevation unit is foot. LAS files were provided by Mecklenburg County, NC and are managed using a mosaic dataset. Esri reserves the right to change or remove this service at any time and without notice.
Name: CharlotteLAS
Description: This image service contains 9 LAS files covering North Carolina’s, City of Charlotte downtown area. The lidar data was collected in 2007. First return points are used to generate an on-the-fly seamless elevation surface with a 10-foot pixel resolution. The elevation unit is foot. LAS files were provided by Mecklenburg County, NC and are managed using a mosaic dataset. Esri reserves the right to change or remove this service at any time and without notice.
Single Fused Map Cache: false
Extent:
XMin: 1440000
YMin: 535000
XMax: 1455000
YMax: 550000
Spatial Reference: 102719
(2264)
Initial Extent:
XMin: 1440000
YMin: 535000
XMax: 1455000
YMax: 550000
Spatial Reference: 102719
(2264)
Full Extent:
XMin: 1440000
YMin: 535000
XMax: 1455000
YMax: 550000
Spatial Reference: 102719
(2264)
Pixel Size X: 10.0
Pixel Size Y: 10.0
Band Count: 1
Pixel Type: F32
RasterFunction Infos: {"rasterFunctionInfos": [
{
"name": "None",
"description": "Make a Raster or Raster Dataset into a Function Raster Dataset.",
"help": ""
},
{
"name": "RFTAspectColor",
"description": "This function generates a color representation of aspect (the slope direction) generated from the elevation surface: from red (Northeast) clockwise to blue (Northwest).",
"help": "This raster function template contains the following processing: aspect, remap, colormap and colormap to RGB functions. The remap fuction remaps aspect result evenly to 8 directions, (N,NE,E,SE,S,SW,W,NW). The colormap function used the following colormap for the 8 categories: [[0 176 176 176], [1 255 0 0],[2 255 166 0],[3 255 255 0],[4 0 255 0],[5 0 255 255],[6 0 166 255],[7 0 0 255],[8 255 0 255]]. To overwrite the default setting, use InputRanges (double array), NoDataRanges (double array), and OutputValues (int array) for remapping, and use Colormap to change colors."
},
{
"name": "RFTHillshade",
"description": "This function creates a hillshade effect based on the elevation data source.",
"help": ""
},
{
"name": "RFTShadedReliefElevationColorRamp",
"description": "This function processes the elevation surface as shaded relief. ",
"help": "This raster function template uses a shaded relief function. The default values of ZFactor is 1, Altitude is 45, and Azimuth is 315. An elevation colorramp is used."
}
]}
Mensuration Capabilities: Basic
Has Histograms: true
Has Colormap: false
Has Multi Dimensions : false
Rendering Rule:
Min Scale: 0
Max Scale: 0
Copyright Text: Copyright © 2007 Mecklenburg County
Service Data Type: esriImageServiceDataTypeElevation
Min Values: 515.6699829101562
Max Values: 1611.125
Mean Values: 712.371337411377
Standard Deviation Values: 45.56883666949917
Object ID Field: OBJECTID
Fields:
-
OBJECTID
(
type: esriFieldTypeOID, alias: OBJECTID
)
-
Shape
(
type: esriFieldTypeGeometry, alias: Shape
)
-
Name
(
type: esriFieldTypeString, alias: Name, length: 50
)
-
MinPS
(
type: esriFieldTypeDouble, alias: MinPS
)
-
MaxPS
(
type: esriFieldTypeDouble, alias: MaxPS
)
-
LowPS
(
type: esriFieldTypeDouble, alias: LowPS
)
-
HighPS
(
type: esriFieldTypeDouble, alias: HighPS
)
-
Category
(
type: esriFieldTypeInteger, alias: Category
, Coded Values:
[0: Unknown]
, [1: Primary]
, [2: Overview]
, ...5 more...
)
-
Tag
(
type: esriFieldTypeString, alias: Tag, length: 20
)
-
GroupName
(
type: esriFieldTypeString, alias: GroupName, length: 50
)
-
ProductName
(
type: esriFieldTypeString, alias: ProductName, length: 50
)
-
CenterX
(
type: esriFieldTypeDouble, alias: CenterX
)
-
CenterY
(
type: esriFieldTypeDouble, alias: CenterY
)
-
ZOrder
(
type: esriFieldTypeInteger, alias: ZOrder
)
-
Shape_Length
(
type: esriFieldTypeDouble, alias: Shape_Length
)
-
Shape_Area
(
type: esriFieldTypeDouble, alias: Shape_Area
)
-
Version
(
type: esriFieldTypeString, alias: Version, length: 20
)
-
PointCount
(
type: esriFieldTypeDouble, alias: Point Count
)
-
PointSpacing
(
type: esriFieldTypeDouble, alias: Point Spacing
)
-
ZMin
(
type: esriFieldTypeDouble, alias: ZMin
)
-
ZMax
(
type: esriFieldTypeDouble, alias: ZMax
)
Default Mosaic Method: Northwest
Allowed Mosaic Methods: NorthWest,Center,LockRaster,ByAttribute,Nadir,Viewpoint,Seamline,None
SortField:
SortValue: null
Mosaic Operator: First
Default Compression Quality: 10000
Default Resampling Method: Bilinear
Max Record Count: 1000
Max Image Height: 4100
Max Image Width: 15000
Max Download Image Count: 0
Max Mosaic Image Count: 20
Allow Raster Function: true
Allow Copy: true
Allow Analysis: true
Allow Compute TiePoints: false
Supports Statistics: true
Supports Advanced Queries: true
Use StandardizedQueries: true
Raster Type Infos:
Name: Raster Dataset
Description: Supports all ArcGIS Raster Datasets
Help:
Has Raster Attribute Table: false
Edit Fields Info: null
Ownership Based AccessControl For Rasters: null
Child Resources:
Info
Histograms
Statistics
Key Properties
Legend
Raster Function Infos
Supported Operations:
Export Image
Query
Identify
Measure
Compute Histograms
Compute Statistics Histograms
Get Samples
Compute Class Statistics
Query Boundary
Compute Pixel Location
Compute Angles
Validate
Project
Calculate Volume