View In:
ArcGIS JavaScript
ArcGIS Online Map Viewer
ArcGIS Earth
ArcMap
View Footprint In:
ArcGIS Online Map Viewer
Service Description: This image service contains weather data from the National Digital Forecast Database (NDFD) of National Weather Service. In perticular it contains wind speed and wind direction variables which can be visualized using vector symbology. For more information about NDFD and more variables, please visit http://www.nws.noaa.gov/ndfd. The data is managed using a multidimensional mosaic dataset with a vector field processing template that computes the directions and sizes of the vector symbols on the fly. Esri reserves the right to change or remove this service at any time and without notice.
Name: ScientificData/NDFD_wind
Description: This image service contains weather data from the National Digital Forecast Database (NDFD) of National Weather Service. In perticular it contains wind speed and wind direction variables which can be visualized using vector symbology. For more information about NDFD and more variables, please visit http://www.nws.noaa.gov/ndfd. The data is managed using a multidimensional mosaic dataset with a vector field processing template that computes the directions and sizes of the vector symbols on the fly. Esri reserves the right to change or remove this service at any time and without notice.
Single Fused Map Cache: false
Extent:
XMin: -130.12294387799994
YMin: 20.16828230383374
XMax: -60.8579997693452
YMax: 52.81588935900006
Spatial Reference: 4326
(4326)
Initial Extent:
XMin: -130.12294387799994
YMin: 20.16828230383374
XMax: -60.8579997693452
YMax: 52.81588935900006
Spatial Reference: 4326
(4326)
Full Extent:
XMin: -130.12294387799994
YMin: 20.16828230383374
XMax: -60.8579997693452
YMax: 52.81588935900006
Spatial Reference: 4326
(4326)
Time Info:
Start Time Field: StdTime
End Time Field: StdTime
Time Extent:
[2014/10/26 06:00:00 UTC, 2014/10/30 00:00:00 UTC]
Time Reference:
N/A
Pixel Size X: 0.02281454022024201
Pixel Size Y: 0.02281454022024201
Band Count: 2
Pixel Type: F32
RasterFunction Infos: {"rasterFunctionInfos": [
{
"name": "None",
"description": "A No-Op Function.",
"help": ""
},
{
"name": "Vector-MagDir",
"description": "A raster function template.",
"help": ""
}
]}
Mensuration Capabilities: Basic
Has Histograms: true
Has Colormap: false
Has Multi Dimensions : true
Rendering Rule:
Min Scale: 0
Max Scale: 0
Copyright Text: NOAA, NWS, Esri
Service Data Type: esriImageServiceDataTypeVector-MagDir
Min Values: 0.04140625149011612, 0.703125
Max Values: 31.9375, 359.296875
Mean Values: 4.833591227590268, 201.47860098321482
Standard Deviation Values: 2.681582425434986, 96.27417072439236
Object ID Field: OBJECTID
Fields:
-
OBJECTID
(
type: esriFieldTypeOID, alias: OBJECTID
)
-
Shape
(
type: esriFieldTypeGeometry, alias: Shape
)
-
Name
(
type: esriFieldTypeString, alias: Name, length: 200
)
-
MinPS
(
type: esriFieldTypeDouble, alias: MinPS
)
-
MaxPS
(
type: esriFieldTypeDouble, alias: MaxPS
)
-
LowPS
(
type: esriFieldTypeDouble, alias: LowPS
)
-
HighPS
(
type: esriFieldTypeDouble, alias: HighPS
)
-
Category
(
type: esriFieldTypeInteger, alias: Category
, Coded Values:
[0: Unknown]
, [1: Primary]
, [2: Overview]
, ...5 more...
)
-
Tag
(
type: esriFieldTypeString, alias: Tag, length: 100
)
-
GroupName
(
type: esriFieldTypeString, alias: GroupName, length: 100
)
-
ProductName
(
type: esriFieldTypeString, alias: ProductName, length: 100
)
-
CenterX
(
type: esriFieldTypeDouble, alias: CenterX
)
-
CenterY
(
type: esriFieldTypeDouble, alias: CenterY
)
-
ZOrder
(
type: esriFieldTypeInteger, alias: ZOrder
)
-
Shape_Length
(
type: esriFieldTypeDouble, alias: Shape_Length
)
-
Shape_Area
(
type: esriFieldTypeDouble, alias: Shape_Area
)
-
Variable
(
type: esriFieldTypeString, alias: Variable, length: 50
)
-
Dimensions
(
type: esriFieldTypeString, alias: Dimensions, length: 50
)
-
StdTime
(
type: esriFieldTypeDate, alias: Standard Time, length: 8
)
Default Mosaic Method: ByAttribute
Allowed Mosaic Methods: ByAttribute,NorthWest,Center,LockRaster,Nadir,Viewpoint,Seamline,None
SortField: StdTime
SortValue: 0
Mosaic Operator: First
Default Compression Quality: 500000
Default Resampling Method: Bilinear
Max Record Count: 1000
Max Image Height: 4100
Max Image Width: 15000
Max Download Image Count: 20
Max Mosaic Image Count: 1
Allow Raster Function: true
Allow Copy: true
Allow Analysis: true
Allow Compute TiePoints: false
Supports Statistics: true
Supports Advanced Queries: true
Use StandardizedQueries: true
Raster Type Infos:
Name: Raster Dataset
Description: Supports all ArcGIS Raster Datasets
Help:
Has Raster Attribute Table: false
Edit Fields Info: null
Ownership Based AccessControl For Rasters: null
Child Resources:
Info
Histograms
Statistics
Key Properties
Legend
Raster Function Infos
Multidimensional Info
Slices
Supported Operations:
Export Image
Query
Identify
Measure
Compute Histograms
Compute Statistics Histograms
Get Samples
Compute Class Statistics
Query Boundary
Compute Pixel Location
Compute Angles
Validate
Project