View In:
ArcGIS JavaScript
ArcGIS Online Map Viewer
ArcGIS Earth
ArcMap
View Footprint In:
ArcGIS Online Map Viewer
Service Description: This image service contains weather data from the National Digital Forecast Database (NDFD) of National Weather Service. In perticular it contains temperature (Kevin), relative humidity, and wind speed (mile per second) of June 10, 2016. For more information about variables of NDFD and downloadable data, please visit http://www.nws.noaa.gov/ndfd. The data of the service is managed using a multidimensional mosaic dataset and processing templates. Esri reserves the right to change or remove this service at any time and without notice.
Name: ScientificData/NDFD_model
Description: This image service contains weather data from the National Digital Forecast Database (NDFD) of National Weather Service. In perticular it contains temperature (Kevin), relative humidity, and wind speed (mile per second) of June 10, 2016. For more information about variables of NDFD and downloadable data, please visit http://www.nws.noaa.gov/ndfd. The data of the service is managed using a multidimensional mosaic dataset and processing templates. Esri reserves the right to change or remove this service at any time and without notice.
Single Fused Map Cache: false
Extent:
XMin: -130.12294387799994
YMin: 20.16828230383374
XMax: -60.8579997693452
YMax: 52.81588935900006
Spatial Reference: 4326
(4326)
Initial Extent:
XMin: -130.12294387799994
YMin: 20.16828230383374
XMax: -60.8579997693452
YMax: 52.81588935900006
Spatial Reference: 4326
(4326)
Full Extent:
XMin: -130.12294387799994
YMin: 20.16828230383374
XMax: -60.8579997693452
YMax: 52.81588935900006
Spatial Reference: 4326
(4326)
Time Info:
Start Time Field: StdTime
End Time Field: StdTime
Time Extent:
[2016/06/23 06:00:00 UTC, 2016/06/27 00:00:00 UTC]
Time Reference:
N/A
Pixel Size X: 0.02281454022024201
Pixel Size Y: 0.02281454022024201
Band Count: 1
Pixel Type: F32
RasterFunction Infos: {"rasterFunctionInfos": [
{
"name": "Temperature (Kevin)",
"description": "A template that selects temperature",
"help": ""
},
{
"name": "None",
"description": "A No-Op Function.",
"help": ""
},
{
"name": "Humidity (%)",
"description": "A template that selects relative humidity varaible",
"help": ""
},
{
"name": "Wind Speed (m/s)",
"description": "A template that selects wind speed variable",
"help": ""
},
{
"name": "Wind Chill",
"description": "A template of NWS wind chill model ",
"help": "This model calculates the wind chill index using temperature and wind speed. The formular is published by National Weather Service. This template converts the wind speed unit from m/s to mph"
},
{
"name": "Heat Index",
"description": "A template of heat index model",
"help": "A raster function that calculates heat index"
}
]}
Mensuration Capabilities: None
Has Histograms: true
Has Colormap: false
Has Multi Dimensions : true
Rendering Rule:
Min Scale: 0
Max Scale: 0
Copyright Text: NOAA, NWS, Esri
Service Data Type: esriImageServiceDataTypeScientific
Min Values: 17.848264697939157
Max Values: 99.52795409783721
Mean Values: 71.4651596163425
Standard Deviation Values: 15.256553116333253
Object ID Field: OBJECTID
Fields:
-
OBJECTID
(
type: esriFieldTypeOID, alias: OBJECTID
)
-
Shape
(
type: esriFieldTypeGeometry, alias: Shape
)
-
Name
(
type: esriFieldTypeString, alias: Name, length: 200
)
-
MinPS
(
type: esriFieldTypeDouble, alias: MinPS
)
-
MaxPS
(
type: esriFieldTypeDouble, alias: MaxPS
)
-
LowPS
(
type: esriFieldTypeDouble, alias: LowPS
)
-
HighPS
(
type: esriFieldTypeDouble, alias: HighPS
)
-
Category
(
type: esriFieldTypeInteger, alias: Category
, Coded Values:
[0: Unknown]
, [1: Primary]
, [2: Overview]
, ...5 more...
)
-
Tag
(
type: esriFieldTypeString, alias: Tag, length: 100
)
-
GroupName
(
type: esriFieldTypeString, alias: GroupName, length: 100
)
-
ProductName
(
type: esriFieldTypeString, alias: ProductName, length: 100
)
-
CenterX
(
type: esriFieldTypeDouble, alias: CenterX
)
-
CenterY
(
type: esriFieldTypeDouble, alias: CenterY
)
-
ZOrder
(
type: esriFieldTypeInteger, alias: ZOrder
)
-
Variable
(
type: esriFieldTypeString, alias: Variable, length: 50
)
-
Dimensions
(
type: esriFieldTypeString, alias: Dimensions, length: 50
)
-
StdTime
(
type: esriFieldTypeDate, alias: Standard Time, length: 8
)
-
Shape_Length
(
type: esriFieldTypeDouble, alias: Shape_Length
)
-
Shape_Area
(
type: esriFieldTypeDouble, alias: Shape_Area
)
Default Mosaic Method: Center
Allowed Mosaic Methods: Center,NorthWest,LockRaster,ByAttribute,Nadir,Viewpoint,Seamline,None
SortField:
SortValue: null
Mosaic Operator: First
Default Compression Quality: 500000
Default Resampling Method: Bilinear
Max Record Count: 1000
Max Image Height: 4100
Max Image Width: 15000
Max Download Image Count: 20
Max Mosaic Image Count: 3
Allow Raster Function: true
Allow Copy: true
Allow Analysis: true
Allow Compute TiePoints: false
Supports Statistics: true
Supports Advanced Queries: true
Use StandardizedQueries: true
Raster Type Infos:
Name: Raster Dataset
Description: Supports all ArcGIS Raster Datasets
Help:
Has Raster Attribute Table: false
Edit Fields Info: null
Ownership Based AccessControl For Rasters: null
Child Resources:
Info
Histograms
Statistics
Key Properties
Legend
Raster Function Infos
Multidimensional Info
Slices
Supported Operations:
Export Image
Query
Identify
Compute Histograms
Compute Statistics Histograms
Get Samples
Compute Class Statistics
Query Boundary
Compute Pixel Location
Compute Angles
Validate
Project