View In:
ArcGIS JavaScript
ArcGIS Online Map Viewer
ArcGIS Earth
ArcMap
View Footprint In:
ArcGIS Online Map Viewer
Service Description: Elevation/earthquakedemoelevation
Name: Elevation/earthquakedemoelevation
Description:
Single Fused Map Cache: false
Extent:
XMin: 344337.12498628
YMin: 3784364.8258005
XMax: 369637.12498628
YMax: 3804664.8258005
Spatial Reference: 26711
(26711)
Initial Extent:
XMin: 344337.12498628
YMin: 3784364.8258005
XMax: 369637.12498628
YMax: 3804664.8258005
Spatial Reference: 26711
(26711)
Full Extent:
XMin: 344337.12498628
YMin: 3784364.8258005
XMax: 369637.12498628
YMax: 3804664.8258005
Spatial Reference: 26711
(26711)
Pixel Size X: 100.0
Pixel Size Y: 100.0
Band Count: 1
Pixel Type: S16
RasterFunction Infos: {"rasterFunctionInfos": [{
"name": "None",
"description": "",
"help": ""
}]}
Mensuration Capabilities: Basic
Has Histograms: true
Has Colormap: false
Has Multi Dimensions : false
Rendering Rule:
Min Scale: 100000
Max Scale: 3125
Copyright Text:
Service Data Type: esriImageServiceDataTypeGeneric
Min Values: 620
Max Values: 4021
Mean Values: 1363.307144657258
Standard Deviation Values: 650.6271113436089
Object ID Field:
Fields:
None
Default Mosaic Method: Center
Allowed Mosaic Methods:
SortField:
SortValue: null
Mosaic Operator: First
Default Compression Quality: 75
Default Resampling Method: Bilinear
Max Record Count: null
Max Image Height: 4100
Max Image Width: 15000
Max Download Image Count: null
Max Mosaic Image Count: null
Allow Raster Function: true
Allow Copy: true
Allow Analysis: true
Allow Compute TiePoints: false
Supports Statistics: false
Supports Advanced Queries: false
Use StandardizedQueries: true
Raster Type Infos:
Name: Raster Dataset
Description: Supports all ArcGIS Raster Datasets
Help:
Has Raster Attribute Table: true
Edit Fields Info: null
Ownership Based AccessControl For Rasters: null
Child Resources:
Info
Raster Attribute Table
Histograms
Statistics
Key Properties
Legend
Raster Function Infos
Supported Operations:
Export Image
Identify
Measure
Compute Histograms
Compute Statistics Histograms
Get Samples
Compute Class Statistics
Query Boundary
Compute Pixel Location
Compute Angles
Validate
Project