View In:
ArcGIS JavaScript
ArcGIS Online Map Viewer
ArcGIS Earth
ArcMap
View Footprint In:
ArcGIS Online Map Viewer
Service Description: Elevation/MtBaldy_Elevation
Name: Elevation/MtBaldy_Elevation
Description:
Single Fused Map Cache: false
Extent:
XMin: 411955.7087461654
YMin: 3757864.118310199
XMax: 503438.54499069054
YMax: 3836518.9924667478
Spatial Reference: 32611
(32611)
Initial Extent:
XMin: 411955.7087461654
YMin: 3757864.118310199
XMax: 503438.54499069054
YMax: 3836518.9924667478
Spatial Reference: 32611
(32611)
Full Extent:
XMin: 411955.7087461654
YMin: 3757864.118310199
XMax: 503438.54499069054
YMax: 3836518.9924667478
Spatial Reference: 32611
(32611)
Pixel Size X: 9.982849873911519
Pixel Size Y: 9.982849873911492
Band Count: 1
Pixel Type: F32
RasterFunction Infos: {"rasterFunctionInfos": [{
"name": "None",
"description": "",
"help": ""
}]}
Mensuration Capabilities: Basic
Has Histograms: true
Has Colormap: false
Has Multi Dimensions : false
Rendering Rule:
Min Scale: 500000
Max Scale: 7812.5
Copyright Text:
Service Data Type: esriImageServiceDataTypeGeneric
Min Values: 116.51359558105469
Max Values: 3068.02685546875
Mean Values: 1008.5243263790594
Standard Deviation Values: 505.03024400334147
Object ID Field:
Fields:
None
Default Mosaic Method: Center
Allowed Mosaic Methods:
SortField:
SortValue: null
Mosaic Operator: First
Default Compression Quality: 75
Default Resampling Method: Bilinear
Max Record Count: null
Max Image Height: 4100
Max Image Width: 15000
Max Download Image Count: null
Max Mosaic Image Count: null
Allow Raster Function: true
Allow Copy: true
Allow Analysis: true
Allow Compute TiePoints: false
Supports Statistics: false
Supports Advanced Queries: false
Use StandardizedQueries: true
Raster Type Infos:
Name: Raster Dataset
Description: Supports all ArcGIS Raster Datasets
Help:
Has Raster Attribute Table: false
Edit Fields Info: null
Ownership Based AccessControl For Rasters: null
Child Resources:
Info
Histograms
Statistics
Key Properties
Legend
Raster Function Infos
Supported Operations:
Export Image
Identify
Measure
Compute Histograms
Compute Statistics Histograms
Get Samples
Compute Class Statistics
Query Boundary
Compute Pixel Location
Compute Angles
Validate
Project