{
 "currentVersion": 10.91,
 "serviceDescription": "This image service contains weather data from the National Digital Forecast Database (NDFD) of National Weather Service. In perticular it contains temperature (Kevin), relative humidity, and wind speed (mile per second) of June 10, 2016. For more information about variables of NDFD and downloadable data, please visit http://www.nws.noaa.gov/ndfd. The data of the service is managed using a multidimensional mosaic dataset and processing templates. Esri reserves the right to change or remove this service at any time and without notice.",
 "name": "ScientificData/NDFD_model",
 "description": "This image service contains weather data from the National Digital Forecast Database (NDFD) of National Weather Service. In perticular it contains temperature (Kevin), relative humidity, and wind speed (mile per second) of June 10, 2016. For more information about variables of NDFD and downloadable data, please visit http://www.nws.noaa.gov/ndfd. The data of the service is managed using a multidimensional mosaic dataset and processing templates. Esri reserves the right to change or remove this service at any time and without notice.",
 "extent": {
  "xmin": -130.12294387799994,
  "ymin": 20.16828230383374,
  "xmax": -60.8579997693452,
  "ymax": 52.81588935900006,
  "spatialReference": {
   "wkid": 4326,
   "latestWkid": 4326
  }
 },
 "initialExtent": {
  "xmin": -130.12294387799994,
  "ymin": 20.16828230383374,
  "xmax": -60.8579997693452,
  "ymax": 52.81588935900006,
  "spatialReference": {
   "wkid": 4326,
   "latestWkid": 4326
  }
 },
 "fullExtent": {
  "xmin": -130.12294387799994,
  "ymin": 20.16828230383374,
  "xmax": -60.8579997693452,
  "ymax": 52.81588935900006,
  "spatialReference": {
   "wkid": 4326,
   "latestWkid": 4326
  }
 },
 "hasMultidimensions": true,
 "timeInfo": {
  "startTimeField": "StdTime",
  "endTimeField": "StdTime",
  "timeExtent": [
   1466661600000,
   1466985600000
  ],
  "timeReference": null,
  "defaultTimeInterval": 6,
  "defaultTimeIntervalUnits": "esriTimeUnitsHours"
 },
 "pixelSizeX": 0.02281454022024201,
 "pixelSizeY": 0.02281454022024201,
 "datasetFormat": "AMD",
 "uncompressedSize": 17378064,
 "blockWidth": 2048,
 "blockHeight": 256,
 "compressionType": "None",
 "bandNames": [
  "Band_1"
 ],
 "allowCopy": true,
 "allowAnalysis": true,
 "defaultVariable": "",
 "bandCount": 1,
 "pixelType": "F32",
 "minPixelSize": 0,
 "maxPixelSize": 0,
 "copyrightText": "NOAA, NWS, Esri",
 "serviceDataType": "esriImageServiceDataTypeScientific",
 "serviceSourceType": "esriImageServiceSourceTypeMosaicDataset",
 "minValues": [
  17.848264697939157
 ],
 "maxValues": [
  99.52795409783721
 ],
 "meanValues": [
  71.4651596163425
 ],
 "stdvValues": [
  15.256553116333253
 ],
 "objectIdField": "OBJECTID",
 "fields": [
  {
   "name": "OBJECTID",
   "type": "esriFieldTypeOID",
   "alias": "OBJECTID",
   "domain": null
  },
  {
   "name": "Shape",
   "type": "esriFieldTypeGeometry",
   "alias": "Shape",
   "domain": null
  },
  {
   "name": "Name",
   "type": "esriFieldTypeString",
   "alias": "Name",
   "domain": null,
   "length": 200
  },
  {
   "name": "MinPS",
   "type": "esriFieldTypeDouble",
   "alias": "MinPS",
   "domain": null
  },
  {
   "name": "MaxPS",
   "type": "esriFieldTypeDouble",
   "alias": "MaxPS",
   "domain": null
  },
  {
   "name": "LowPS",
   "type": "esriFieldTypeDouble",
   "alias": "LowPS",
   "domain": null
  },
  {
   "name": "HighPS",
   "type": "esriFieldTypeDouble",
   "alias": "HighPS",
   "domain": null
  },
  {
   "name": "Category",
   "type": "esriFieldTypeInteger",
   "alias": "Category",
   "domain": {
    "type": "codedValue",
    "name": "MosaicCatalogItemCategoryDomain",
    "description": "Catalog item categories.",
    "codedValues": [
     {
      "name": "Unknown",
      "code": 0
     },
     {
      "name": "Primary",
      "code": 1
     },
     {
      "name": "Overview",
      "code": 2
     },
     {
      "name": "Unprocessed Overview",
      "code": 3
     },
     {
      "name": "Partial Overview",
      "code": 4
     },
     {
      "name": "Uploaded",
      "code": 253
     },
     {
      "name": "Incomplete",
      "code": 254
     },
     {
      "name": "Custom",
      "code": 255
     }
    ],
    "mergePolicy": "esriMPTDefaultValue",
    "splitPolicy": "esriSPTDefaultValue"
   }
  },
  {
   "name": "Tag",
   "type": "esriFieldTypeString",
   "alias": "Tag",
   "domain": null,
   "length": 100
  },
  {
   "name": "GroupName",
   "type": "esriFieldTypeString",
   "alias": "GroupName",
   "domain": null,
   "length": 100
  },
  {
   "name": "ProductName",
   "type": "esriFieldTypeString",
   "alias": "ProductName",
   "domain": null,
   "length": 100
  },
  {
   "name": "CenterX",
   "type": "esriFieldTypeDouble",
   "alias": "CenterX",
   "domain": null
  },
  {
   "name": "CenterY",
   "type": "esriFieldTypeDouble",
   "alias": "CenterY",
   "domain": null
  },
  {
   "name": "ZOrder",
   "type": "esriFieldTypeInteger",
   "alias": "ZOrder",
   "domain": null
  },
  {
   "name": "Variable",
   "type": "esriFieldTypeString",
   "alias": "Variable",
   "domain": null,
   "length": 50
  },
  {
   "name": "Dimensions",
   "type": "esriFieldTypeString",
   "alias": "Dimensions",
   "domain": null,
   "length": 50
  },
  {
   "name": "StdTime",
   "type": "esriFieldTypeDate",
   "alias": "Standard Time",
   "domain": null,
   "length": 8
  },
  {
   "name": "Shape_Length",
   "type": "esriFieldTypeDouble",
   "alias": "Shape_Length",
   "domain": null
  },
  {
   "name": "Shape_Area",
   "type": "esriFieldTypeDouble",
   "alias": "Shape_Area",
   "domain": null
  }
 ],
 "capabilities": "Catalog,Image,Metadata",
 "defaultMosaicMethod": "Center",
 "allowedMosaicMethods": "Center,NorthWest,LockRaster,ByAttribute,Nadir,Viewpoint,Seamline,None",
 "sortField": "",
 "sortValue": null,
 "sortAscending": true,
 "mosaicOperator": "First",
 "maxDownloadSizeLimit": 2048,
 "defaultCompressionQuality": 500000,
 "defaultResamplingMethod": "Bilinear",
 "maxImageHeight": 4100,
 "maxImageWidth": 15000,
 "maxRecordCount": 1000,
 "maxDownloadImageCount": 20,
 "maxMosaicImageCount": 3,
 "allowRasterFunction": true,
 "rasterFunctionInfos": [
  {
   "name": "Temperature (Kevin)",
   "description": "A template that selects temperature",
   "help": ""
  },
  {
   "name": "None",
   "description": "A No-Op Function.",
   "help": ""
  },
  {
   "name": "Humidity (%)",
   "description": "A template that selects relative humidity varaible",
   "help": ""
  },
  {
   "name": "Wind Speed (m/s)",
   "description": "A template that selects wind speed variable",
   "help": ""
  },
  {
   "name": "Wind Chill",
   "description": "A template of NWS wind chill model ",
   "help": "This model calculates the wind chill index using temperature and wind speed. The formular is published by National Weather Service. This template converts the wind speed unit from m/s to mph"
  },
  {
   "name": "Heat Index",
   "description": "A template of heat index model",
   "help": "A raster function that calculates heat index"
  }
 ],
 "rasterTypeInfos": [
  {
   "name": "Raster Dataset",
   "description": "Supports all ArcGIS Raster Datasets",
   "help": ""
  }
 ],
 "mensurationCapabilities": "None",
 "hasHistograms": true,
 "hasColormap": false,
 "hasRasterAttributeTable": false,
 "minScale": 0,
 "maxScale": 0,
 "exportTilesAllowed": false,
 "supportsStatistics": true,
 "supportsAdvancedQueries": true,
 "editFieldsInfo": null,
 "ownershipBasedAccessControlForRasters": null,
 "allowComputeTiePoints": false,
 "useStandardizedQueries": true,
 "advancedQueryCapabilities": {
  "useStandardizedQueries": true,
  "supportsStatistics": true,
  "supportsOrderBy": true,
  "supportsDistinct": true,
  "supportsPagination": true
 },
 "spatialReference": {
  "wkid": 4326,
  "latestWkid": 4326
 }
}