{
 "currentVersion": 10.91,
 "serviceDescription": "Elevation/earthquakedemoelevation",
 "name": "Elevation/earthquakedemoelevation",
 "description": "",
 "extent": {
  "xmin": 344337.12498628,
  "ymin": 3784364.8258005,
  "xmax": 369637.12498628,
  "ymax": 3804664.8258005,
  "spatialReference": {
   "wkid": 26711,
   "latestWkid": 26711
  }
 },
 "initialExtent": {
  "xmin": 344337.12498628,
  "ymin": 3784364.8258005,
  "xmax": 369637.12498628,
  "ymax": 3804664.8258005,
  "spatialReference": {
   "wkid": 26711,
   "latestWkid": 26711
  }
 },
 "fullExtent": {
  "xmin": 344337.12498628,
  "ymin": 3784364.8258005,
  "xmax": 369637.12498628,
  "ymax": 3804664.8258005,
  "spatialReference": {
   "wkid": 26711,
   "latestWkid": 26711
  }
 },
 "hasMultidimensions": false,
 "pixelSizeX": 100,
 "pixelSizeY": 100,
 "datasetFormat": "FGDBR",
 "uncompressedSize": 102718,
 "blockWidth": 128,
 "blockHeight": 128,
 "compressionType": "LZ77",
 "bandNames": [
  "Band_1"
 ],
 "allowCopy": true,
 "allowAnalysis": true,
 "bandCount": 1,
 "pixelType": "S16",
 "minPixelSize": 0,
 "maxPixelSize": 0,
 "copyrightText": "",
 "serviceDataType": "esriImageServiceDataTypeGeneric",
 "serviceSourceType": "esriImageServiceSourceTypeDataset",
 "minValues": [
  620
 ],
 "maxValues": [
  4021
 ],
 "meanValues": [
  1363.307144657258
 ],
 "stdvValues": [
  650.6271113436089
 ],
 "objectIdField": "",
 "fields": [],
 "capabilities": "Image,Metadata,Mensuration",
 "defaultMosaicMethod": "Center",
 "allowedMosaicMethods": "",
 "sortField": "",
 "sortValue": null,
 "sortAscending": true,
 "mosaicOperator": "First",
 "defaultCompressionQuality": 75,
 "defaultResamplingMethod": "Bilinear",
 "maxImageHeight": 4100,
 "maxImageWidth": 15000,
 "allowRasterFunction": true,
 "rasterFunctionInfos": [
  {
   "name": "None",
   "description": "",
   "help": ""
  }
 ],
 "rasterTypeInfos": [
  {
   "name": "Raster Dataset",
   "description": "Supports all ArcGIS Raster Datasets",
   "help": ""
  }
 ],
 "mensurationCapabilities": "Basic",
 "hasHistograms": true,
 "hasColormap": false,
 "hasRasterAttributeTable": true,
 "minScale": 100000,
 "maxScale": 3125,
 "exportTilesAllowed": false,
 "supportsStatistics": false,
 "supportsAdvancedQueries": false,
 "editFieldsInfo": null,
 "ownershipBasedAccessControlForRasters": null,
 "allowComputeTiePoints": false,
 "useStandardizedQueries": true,
 "advancedQueryCapabilities": {
  "useStandardizedQueries": true,
  "supportsStatistics": false,
  "supportsOrderBy": false,
  "supportsDistinct": false,
  "supportsPagination": false
 },
 "spatialReference": {
  "wkid": 26711,
  "latestWkid": 26711
 }
}