{
 "currentVersion": 10.91,
 "serviceDescription": "Elevation/MtBaldy_Elevation",
 "name": "Elevation/MtBaldy_Elevation",
 "description": "",
 "extent": {
  "xmin": 411955.7087461654,
  "ymin": 3757864.118310199,
  "xmax": 503438.54499069054,
  "ymax": 3836518.9924667478,
  "spatialReference": {
   "wkid": 32611,
   "latestWkid": 32611
  }
 },
 "initialExtent": {
  "xmin": 411955.7087461654,
  "ymin": 3757864.118310199,
  "xmax": 503438.54499069054,
  "ymax": 3836518.9924667478,
  "spatialReference": {
   "wkid": 32611,
   "latestWkid": 32611
  }
 },
 "fullExtent": {
  "xmin": 411955.7087461654,
  "ymin": 3757864.118310199,
  "xmax": 503438.54499069054,
  "ymax": 3836518.9924667478,
  "spatialReference": {
   "wkid": 32611,
   "latestWkid": 32611
  }
 },
 "hasMultidimensions": false,
 "pixelSizeX": 9.982849873911519,
 "pixelSizeY": 9.982849873911492,
 "datasetFormat": "FGDBR",
 "uncompressedSize": 288775968,
 "blockWidth": 128,
 "blockHeight": 128,
 "compressionType": "LZ77",
 "bandNames": [
  "Band_1"
 ],
 "allowCopy": true,
 "allowAnalysis": true,
 "bandCount": 1,
 "pixelType": "F32",
 "minPixelSize": 0,
 "maxPixelSize": 0,
 "copyrightText": "",
 "serviceDataType": "esriImageServiceDataTypeGeneric",
 "serviceSourceType": "esriImageServiceSourceTypeDataset",
 "minValues": [
  116.51359558105469
 ],
 "maxValues": [
  3068.02685546875
 ],
 "meanValues": [
  1008.5243263790594
 ],
 "stdvValues": [
  505.03024400334147
 ],
 "objectIdField": "",
 "fields": [],
 "capabilities": "Image,Metadata,Mensuration",
 "defaultMosaicMethod": "Center",
 "allowedMosaicMethods": "",
 "sortField": "",
 "sortValue": null,
 "sortAscending": true,
 "mosaicOperator": "First",
 "defaultCompressionQuality": 75,
 "defaultResamplingMethod": "Bilinear",
 "maxImageHeight": 4100,
 "maxImageWidth": 15000,
 "allowRasterFunction": true,
 "rasterFunctionInfos": [
  {
   "name": "None",
   "description": "",
   "help": ""
  }
 ],
 "rasterTypeInfos": [
  {
   "name": "Raster Dataset",
   "description": "Supports all ArcGIS Raster Datasets",
   "help": ""
  }
 ],
 "mensurationCapabilities": "Basic",
 "hasHistograms": true,
 "hasColormap": false,
 "hasRasterAttributeTable": false,
 "minScale": 500000,
 "maxScale": 7812.5,
 "exportTilesAllowed": false,
 "supportsStatistics": false,
 "supportsAdvancedQueries": false,
 "editFieldsInfo": null,
 "ownershipBasedAccessControlForRasters": null,
 "allowComputeTiePoints": false,
 "useStandardizedQueries": true,
 "advancedQueryCapabilities": {
  "useStandardizedQueries": true,
  "supportsStatistics": false,
  "supportsOrderBy": false,
  "supportsDistinct": false,
  "supportsPagination": false
 },
 "spatialReference": {
  "wkid": 32611,
  "latestWkid": 32611
 }
}